Workbook

Sheet  Analysis 
A1: Baseline Sept | B1: NAME | C1: Pupil 1 | D1: Pupil 2 | E1: Pupil 3 | F1: Pupil 4 | G1: Pupil 5 | H1: Pupil 6 | I1: Pupil 7 | J1: Pupil 8 | K1: Pupil 9 | L1: Pupil 10 | M1: Pupil 11 | N1: Pupil 12 | O1: Pupil 13 | P1: Pupil 14 | Q1: Pupil 15 | R1: Pupil 16 | S1: Pupil 17 | T1: Pupil 18 | U1: Pupil 19 | V1: Pupil 20 | W1: Pupil 21 | X1: Pupil 22 | Y1: Pupil 23 | Z1: Pupil 24 | AA1: Pupil 25 | AB1: Pupil 26 | AC1: Pupil 27 | AD1: Pupil 28 | AE1: Pupil 29 | AF1: Pupil 30 | AG1: Pupil 31 | AH1: Pupil 32 | AI1: Pupil 33 | AJ1: Pupil 34 | AK1: Pupil 35
A2: Overall | B2: % | C2: ='Baseline Sept'!C2 -> 0 | D2: ='Baseline Sept'!D2 -> 0 | E2: ='Baseline Sept'!E2 -> 0 | F2: ='Baseline Sept'!F2 -> 0 | G2: ='Baseline Sept'!G2 -> 0 | H2: ='Baseline Sept'!H2 -> 0 | I2: ='Baseline Sept'!I2 -> 0 | J2: ='Baseline Sept'!J2 -> 0 | ... AK2: ='Baseline Sept'!AK2 -> 0
A3: Recognition | B3: % | C3: ='Baseline Sept'!C3 -> 0 | D3: ='Baseline Sept'!D3 -> 0 | E3: ='Baseline Sept'!E3 -> 0 | F3: ='Baseline Sept'!F3 -> 0 | G3: ='Baseline Sept'!G3 -> 0 | H3: ='Baseline Sept'!H3 -> 0 | I3: ='Baseline Sept'!I3 -> 0 | J3: ='Baseline Sept'!J3 -> 0 | ... AK3: ='Baseline Sept'!AK3 -> 0
A4: Blending | B4: % | C4: ='Baseline Sept'!C4 -> 0 | D4: ='Baseline Sept'!D4 -> 0 | E4: ='Baseline Sept'!E4 -> 0 | F4: ='Baseline Sept'!F4 -> 0 | G4: ='Baseline Sept'!G4 -> 0 | H4: ='Baseline Sept'!H4 -> 0 | I4: ='Baseline Sept'!I4 -> 0 | J4: ='Baseline Sept'!J4 -> 0 | ... AK4: ='Baseline Sept'!AK4 -> 0
A5: Tricky words | B5: % | C5: ='Baseline Sept'!C5 -> 0 | D5: ='Baseline Sept'!D5 -> 0 | E5: ='Baseline Sept'!E5 -> 0 | F5: ='Baseline Sept'!F5 -> 0 | G5: ='Baseline Sept'!G5 -> 0 | H5: ='Baseline Sept'!H5 -> 0 | I5: ='Baseline Sept'!I5 -> 0 | J5: ='Baseline Sept'!J5 -> 0 | ... AK5: ='Baseline Sept'!AK5 -> 0
A6: Segmenting | B6: % | C6: ='Baseline Sept'!C6 -> 0 | D6: ='Baseline Sept'!D6 -> 0 | E6: ='Baseline Sept'!E6 -> 0 | F6: ='Baseline Sept'!F6 -> 0 | G6: ='Baseline Sept'!G6 -> 0 | H6: ='Baseline Sept'!H6 -> 0 | I6: ='Baseline Sept'!I6 -> 0 | J6: ='Baseline Sept'!J6 -> 0 | ... AK6: ='Baseline Sept'!AK6 -> 0
A8: End Autumn 1 | B8: NAME | C8: Pupil 1 | D8: Pupil 2 | E8: Pupil 3 | F8: Pupil 4 | G8: Pupil 5 | H8: Pupil 6 | I8: Pupil 7 | J8: Pupil 8 | K8: Pupil 9 | L8: Pupil 10 | M8: Pupil 11 | N8: Pupil 12 | O8: Pupil 13 | P8: Pupil 14 | Q8: Pupil 15 | R8: Pupil 16 | S8: Pupil 17 | T8: Pupil 18 | U8: Pupil 19 | V8: Pupil 20 | W8: Pupil 21 | X8: Pupil 22 | Y8: Pupil 23 | Z8: Pupil 24 | AA8: Pupil 25 | AB8: Pupil 26 | AC8: Pupil 27 | AD8: Pupil 28 | AE8: Pupil 29 | AF8: Pupil 30 | AG8: Pupil 31 | AH8: Pupil 32 | AI8: Pupil 33 | AJ8: Pupil 34 | AK8: Pupil 35
A9: Overall | B9: % | C9: ='End of Autumn_1'!C2 -> 0 | D9: ='End of Autumn_1'!D2 -> 0 | E9: ='End of Autumn_1'!E2 -> 0 | F9: ='End of Autumn_1'!F2 -> 0 | G9: ='End of Autumn_1'!G2 -> 0 | H9: ='End of Autumn_1'!H2 -> 0 | I9: ='End of Autumn_1'!I2 -> 0 | J9: ='End of Autumn_1'!J2 -> 0 | ... AK9: ='End of Autumn_1'!AK2 -> 0
A10: Recognition | B10: % | C10: ='End of Autumn_1'!C3 -> 0 | D10: ='End of Autumn_1'!D3 -> 0 | E10: ='End of Autumn_1'!E3 -> 0 | F10: ='End of Autumn_1'!F3 -> 0 | G10: ='End of Autumn_1'!G3 -> 0 | H10: ='End of Autumn_1'!H3 -> 0 | I10: ='End of Autumn_1'!I3 -> 0 | J10: ='End of Autumn_1'!J3 -> 0 | ... AK10: ='End of Autumn_1'!AK3 -> 0
A11: Blending | B11: % | C11: ='End of Autumn_1'!C4 -> 0 | D11: ='End of Autumn_1'!D4 -> 0 | E11: ='End of Autumn_1'!E4 -> 0 | F11: ='End of Autumn_1'!F4 -> 0 | G11: ='End of Autumn_1'!G4 -> 0 | H11: ='End of Autumn_1'!H4 -> 0 | I11: ='End of Autumn_1'!I4 -> 0 | J11: ='End of Autumn_1'!J4 -> 0 | ... AK11: ='End of Autumn_1'!AK4 -> 0
A12: Tricky words | B12: % | C12: ='End of Autumn_1'!C5 -> 0 | D12: ='End of Autumn_1'!D5 -> 0 | E12: ='End of Autumn_1'!E5 -> 0 | F12: ='End of Autumn_1'!F5 -> 0 | G12: ='End of Autumn_1'!G5 -> 0 | H12: ='End of Autumn_1'!H5 -> 0 | I12: ='End of Autumn_1'!I5 -> 0 | J12: ='End of Autumn_1'!J5 -> 0 | ... AK12: ='End of Autumn_1'!AK5 -> 0
A13: Segmenting | B13: % | C13: ='End of Autumn_1'!C6 -> 0 | D13: ='End of Autumn_1'!D6 -> 0 | E13: ='End of Autumn_1'!E6 -> 0 | F13: ='End of Autumn_1'!F6 -> 0 | G13: ='End of Autumn_1'!G6 -> 0 | H13: ='End of Autumn_1'!H6 -> 0 | I13: ='End of Autumn_1'!I6 -> 0 | J13: ='End of Autumn_1'!J6 -> 0 | ... AK13: ='End of Autumn_1'!AK6 -> 0
A15: End Autumn 2 | B15: NAME | C15: Pupil 1 | D15: Pupil 2 | E15: Pupil 3 | F15: Pupil 4 | G15: Pupil 5 | H15: Pupil 6 | I15: Pupil 7 | J15: Pupil 8 | K15: Pupil 9 | L15: Pupil 10 | M15: Pupil 11 | N15: Pupil 12 | O15: Pupil 13 | P15: Pupil 14 | Q15: Pupil 15 | R15: Pupil 16 | S15: Pupil 17 | T15: Pupil 18 | U15: Pupil 19 | V15: Pupil 20 | W15: Pupil 21 | X15: Pupil 22 | Y15: Pupil 23 | Z15: Pupil 24 | AA15: Pupil 25 | AB15: Pupil 26 | AC15: Pupil 27 | AD15: Pupil 28 | AE15: Pupil 29 | AF15: Pupil 30 | AG15: Pupil 31 | AH15: Pupil 32 | AI15: Pupil 33 | AJ15: Pupil 34 | AK15: Pupil 35
A16: Overall | B16: % | C16: ='End of Autumn 2'!C2 -> 0 | D16: ='End of Autumn 2'!D2 -> 0 | E16: ='End of Autumn 2'!E2 -> 0 | F16: ='End of Autumn 2'!F2 -> 0 | G16: ='End of Autumn 2'!G2 -> 0 | H16: ='End of Autumn 2'!H2 -> 0 | I16: ='End of Autumn 2'!I2 -> 0 | J16: ='End of Autumn 2'!J2 -> 0 | ... AK16: ='End of Autumn 2'!AK2 -> 0
A17: Recognition | B17: % | C17: ='End of Autumn 2'!C3 -> 0 | D17: ='End of Autumn 2'!D3 -> 0 | E17: ='End of Autumn 2'!E3 -> 0 | F17: ='End of Autumn 2'!F3 -> 0 | G17: ='End of Autumn 2'!G3 -> 0 | H17: ='End of Autumn 2'!H3 -> 0 | I17: ='End of Autumn 2'!I3 -> 0 | J17: ='End of Autumn 2'!J3 -> 0 | ... AK17: ='End of Autumn 2'!AK3 -> 0
A18: Blending | B18: % | C18: ='End of Autumn 2'!C4 -> 0 | D18: ='End of Autumn 2'!D4 -> 0 | E18: ='End of Autumn 2'!E4 -> 0 | F18: ='End of Autumn 2'!F4 -> 0 | G18: ='End of Autumn 2'!G4 -> 0 | H18: ='End of Autumn 2'!H4 -> 0 | I18: ='End of Autumn 2'!I4 -> 0 | J18: ='End of Autumn 2'!J4 -> 0 | ... AK18: ='End of Autumn 2'!AK4 -> 0
A19: Tricky words | B19: % | C19: ='End of Autumn 2'!C5 -> 0 | D19: ='End of Autumn 2'!D5 -> 0 | E19: ='End of Autumn 2'!E5 -> 0 | F19: ='End of Autumn 2'!F5 -> 0 | G19: ='End of Autumn 2'!G5 -> 0 | H19: ='End of Autumn 2'!H5 -> 0 | I19: ='End of Autumn 2'!I5 -> 0 | J19: ='End of Autumn 2'!J5 -> 0 | ... AK19: ='End of Autumn 2'!AK5 -> 0
A20: Segmenting | B20: % | C20: ='End of Autumn 2'!C6 -> 0 | D20: ='End of Autumn 2'!D6 -> 0 | E20: ='End of Autumn 2'!E6 -> 0 | F20: ='End of Autumn 2'!F6 -> 0 | G20: ='End of Autumn 2'!G6 -> 0 | H20: ='End of Autumn 2'!H6 -> 0 | I20: ='End of Autumn 2'!I6 -> 0 | J20: ='End of Autumn 2'!J6 -> 0 | ... AK20: ='End of Autumn 2'!AK6 -> 0
A22: End Spring 1 | B22: NAME | C22: Pupil 1 | D22: Pupil 2 | E22: Pupil 3 | F22: Pupil 4 | G22: Pupil 5 | H22: Pupil 6 | I22: Pupil 7 | J22: Pupil 8 | K22: Pupil 9 | L22: Pupil 10 | M22: Pupil 11 | N22: Pupil 12 | O22: Pupil 13 | P22: Pupil 14 | Q22: Pupil 15 | R22: Pupil 16 | S22: Pupil 17 | T22: Pupil 18 | U22: Pupil 19 | V22: Pupil 20 | W22: Pupil 21 | X22: Pupil 22 | Y22: Pupil 23 | Z22: Pupil 24 | AA22: Pupil 25 | AB22: Pupil 26 | AC22: Pupil 27 | AD22: Pupil 28 | AE22: Pupil 29 | AF22: Pupil 30 | AG22: Pupil 31 | AH22: Pupil 32 | AI22: Pupil 33 | AJ22: Pupil 34 | AK22: Pupil 35
A23: Overall | B23: % | C23: ='End of Spring 1'!C2 -> 0 | D23: ='End of Spring 1'!D2 -> 0 | E23: ='End of Spring 1'!E2 -> 0 | F23: ='End of Spring 1'!F2 -> 0 | G23: ='End of Spring 1'!G2 -> 0 | H23: ='End of Spring 1'!H2 -> 0 | I23: ='End of Spring 1'!I2 -> 0 | J23: ='End of Spring 1'!J2 -> 0 | ... AK23: ='End of Spring 1'!AK2 -> 0
A24: Recognition | B24: % | C24: ='End of Spring 1'!C3 -> 0 | D24: ='End of Spring 1'!D3 -> 0 | E24: ='End of Spring 1'!E3 -> 0 | F24: ='End of Spring 1'!F3 -> 0 | G24: ='End of Spring 1'!G3 -> 0 | H24: ='End of Spring 1'!H3 -> 0 | I24: ='End of Spring 1'!I3 -> 0 | J24: ='End of Spring 1'!J3 -> 0 | ... AK24: ='End of Spring 1'!AK3 -> 0
A25: Blending | B25: % | C25: ='End of Spring 1'!C4 -> 0 | D25: ='End of Spring 1'!D4 -> 0 | E25: ='End of Spring 1'!E4 -> 0 | F25: ='End of Spring 1'!F4 -> 0 | G25: ='End of Spring 1'!G4 -> 0 | H25: ='End of Spring 1'!H4 -> 0 | I25: ='End of Spring 1'!I4 -> 0 | J25: ='End of Spring 1'!J4 -> 0 | ... AK25: ='End of Spring 1'!AK4 -> 0
A26: Tricky words | B26: % | C26: ='End of Spring 1'!C5 -> 0 | D26: ='End of Spring 1'!D5 -> 0 | E26: ='End of Spring 1'!E5 -> 0 | F26: ='End of Spring 1'!F5 -> 0 | G26: ='End of Spring 1'!G5 -> 0 | H26: ='End of Spring 1'!H5 -> 0 | I26: ='End of Spring 1'!I5 -> 0 | J26: ='End of Spring 1'!J5 -> 0 | ... AK26: ='End of Spring 1'!AK5 -> 0
A27: Segmenting | B27: % | C27: ='End of Spring 1'!C6 -> 0 | D27: ='End of Spring 1'!D6 -> 0 | E27: ='End of Spring 1'!E6 -> 0 | F27: ='End of Spring 1'!F6 -> 0 | G27: ='End of Spring 1'!G6 -> 0 | H27: ='End of Spring 1'!H6 -> 0 | I27: ='End of Spring 1'!I6 -> 0 | J27: ='End of Spring 1'!J6 -> 0 | ... AK27: ='End of Spring 1'!AK6 -> 0
A29: End Spring 2 | B29: NAME | C29: Pupil 1 | D29: Pupil 2 | E29: Pupil 3 | F29: Pupil 4 | G29: Pupil 5 | H29: Pupil 6 | I29: Pupil 7 | J29: Pupil 8 | K29: Pupil 9 | L29: Pupil 10 | M29: Pupil 11 | N29: Pupil 12 | O29: Pupil 13 | P29: Pupil 14 | Q29: Pupil 15 | R29: Pupil 16 | S29: Pupil 17 | T29: Pupil 18 | U29: Pupil 19 | V29: Pupil 20 | W29: Pupil 21 | X29: Pupil 22 | Y29: Pupil 23 | Z29: Pupil 24 | AA29: Pupil 25 | AB29: Pupil 26 | AC29: Pupil 27 | AD29: Pupil 28 | AE29: Pupil 29 | AF29: Pupil 30 | AG29: Pupil 31 | AH29: Pupil 32 | AI29: Pupil 33 | AJ29: Pupil 34 | AK29: Pupil 35
A30: Overall | B30: % | C30: ='End of Spring 2'!C2 -> 0 | D30: ='End of Spring 2'!D2 -> 0 | E30: ='End of Spring 2'!E2 -> 0 | F30: ='End of Spring 2'!F2 -> 0 | G30: ='End of Spring 2'!G2 -> 0 | H30: ='End of Spring 2'!H2 -> 0 | I30: ='End of Spring 2'!I2 -> 0 | J30: ='End of Spring 2'!J2 -> 0 | ... AK30: ='End of Spring 2'!AK2 -> 0
A31: Recognition | B31: % | C31: ='End of Spring 2'!C3 -> 0 | D31: ='End of Spring 2'!D3 -> 0 | E31: ='End of Spring 2'!E3 -> 0 | F31: ='End of Spring 2'!F3 -> 0 | G31: ='End of Spring 2'!G3 -> 0 | H31: ='End of Spring 2'!H3 -> 0 | I31: ='End of Spring 2'!I3 -> 0 | J31: ='End of Spring 2'!J3 -> 0 | ... AK31: ='End of Spring 2'!AK3 -> 0
A32: Blending | B32: % | C32: ='End of Spring 2'!C4 -> 0 | D32: ='End of Spring 2'!D4 -> 0 | E32: ='End of Spring 2'!E4 -> 0 | F32: ='End of Spring 2'!F4 -> 0 | G32: ='End of Spring 2'!G4 -> 0 | H32: ='End of Spring 2'!H4 -> 0 | I32: ='End of Spring 2'!I4 -> 0 | J32: ='End of Spring 2'!J4 -> 0 | ... AK32: ='End of Spring 2'!AK4 -> 0
A33: Tricky words | B33: % | C33: ='End of Spring 2'!C5 -> 0 | D33: ='End of Spring 2'!D5 -> 0 | E33: ='End of Spring 2'!E5 -> 0 | F33: ='End of Spring 2'!F5 -> 0 | G33: ='End of Spring 2'!G5 -> 0 | H33: ='End of Spring 2'!H5 -> 0 | I33: ='End of Spring 2'!I5 -> 0 | J33: ='End of Spring 2'!J5 -> 0 | ... AK33: ='End of Spring 2'!AK5 -> 0
A34: Segmenting | B34: % | C34: ='End of Spring 2'!C6 -> 0 | D34: ='End of Spring 2'!D6 -> 0 | E34: ='End of Spring 2'!E6 -> 0 | F34: ='End of Spring 2'!F6 -> 0 | G34: ='End of Spring 2'!G6 -> 0 | H34: ='End of Spring 2'!H6 -> 0 | I34: ='End of Spring 2'!I6 -> 0 | J34: ='End of Spring 2'!J6 -> 0 | ... AK34: ='End of Spring 2'!AK6 -> 0
A36: End Summer 1 | B36: NAME | C36: Pupil 1 | D36: Pupil 2 | E36: Pupil 3 | F36: Pupil 4 | G36: Pupil 5 | H36: Pupil 6 | I36: Pupil 7 | J36: Pupil 8 | K36: Pupil 9 | L36: Pupil 10 | M36: Pupil 11 | N36: Pupil 12 | O36: Pupil 13 | P36: Pupil 14 | Q36: Pupil 15 | R36: Pupil 16 | S36: Pupil 17 | T36: Pupil 18 | U36: Pupil 19 | V36: Pupil 20 | W36: Pupil 21 | X36: Pupil 22 | Y36: Pupil 23 | Z36: Pupil 24 | AA36: Pupil 25 | AB36: Pupil 26 | AC36: Pupil 27 | AD36: Pupil 28 | AE36: Pupil 29 | AF36: Pupil 30 | AG36: Pupil 31 | AH36: Pupil 32 | AI36: Pupil 33 | AJ36: Pupil 34 | AK36: Pupil 35
A37: Overall | B37: % | C37: ='End of Summer 1'!C2 -> 0 | D37: ='End of Summer 1'!D2 -> 0 | E37: ='End of Summer 1'!E2 -> 0 | F37: ='End of Summer 1'!F2 -> 0 | G37: ='End of Summer 1'!G2 -> 0 | H37: ='End of Summer 1'!H2 -> 0 | I37: ='End of Summer 1'!I2 -> 0 | J37: ='End of Summer 1'!J2 -> 0 | ... AK37: ='End of Summer 1'!AK2 -> 0
A38: Recognition | B38: % | C38: ='End of Summer 1'!C3 -> 0 | D38: ='End of Summer 1'!D3 -> 0 | E38: ='End of Summer 1'!E3 -> 0 | F38: ='End of Summer 1'!F3 -> 0 | G38: ='End of Summer 1'!G3 -> 0 | H38: ='End of Summer 1'!H3 -> 0 | I38: ='End of Summer 1'!I3 -> 0 | J38: ='End of Summer 1'!J3 -> 0 | ... AK38: ='End of Summer 1'!AK3 -> 0
A39: Blending | B39: % | C39: ='End of Summer 1'!C4 -> 0 | D39: ='End of Summer 1'!D4 -> 0 | E39: ='End of Summer 1'!E4 -> 0 | F39: ='End of Summer 1'!F4 -> 0 | G39: ='End of Summer 1'!G4 -> 0 | H39: ='End of Summer 1'!H4 -> 0 | I39: ='End of Summer 1'!I4 -> 0 | J39: ='End of Summer 1'!J4 -> 0 | ... AK39: ='End of Summer 1'!AK4 -> 0
A40: Tricky words | B40: % | C40: ='End of Summer 1'!C5 -> 0 | D40: ='End of Summer 1'!D5 -> 0 | E40: ='End of Summer 1'!E5 -> 0 | F40: ='End of Summer 1'!F5 -> 0 | G40: ='End of Summer 1'!G5 -> 0 | H40: ='End of Summer 1'!H5 -> 0 | I40: ='End of Summer 1'!I5 -> 0 | J40: ='End of Summer 1'!J5 -> 0 | ... AK40: ='End of Summer 1'!AK5 -> 0
A41: Segmenting | B41: % | C41: ='End of Summer 1'!C6 -> 0 | D41: ='End of Summer 1'!D6 -> 0 | E41: ='End of Summer 1'!E6 -> 0 | F41: ='End of Summer 1'!F6 -> 0 | G41: ='End of Summer 1'!G6 -> 0 | H41: ='End of Summer 1'!H6 -> 0 | I41: ='End of Summer 1'!I6 -> 0 | J41: ='End of Summer 1'!J6 -> 0 | ... AK41: ='End of Summer 1'!AK6 -> 0
A43: End Summer 2 | B43: NAME | C43: Pupil 1 | D43: Pupil 2 | E43: Pupil 3 | F43: Pupil 4 | G43: Pupil 5 | H43: Pupil 6 | I43: Pupil 7 | J43: Pupil 8 | K43: Pupil 9 | L43: Pupil 10 | M43: Pupil 11 | N43: Pupil 12 | O43: Pupil 13 | P43: Pupil 14 | Q43: Pupil 15 | R43: Pupil 16 | S43: Pupil 17 | T43: Pupil 18 | U43: Pupil 19 | V43: Pupil 20 | W43: Pupil 21 | X43: Pupil 22 | Y43: Pupil 23 | Z43: Pupil 24 | AA43: Pupil 25 | AB43: Pupil 26 | AC43: Pupil 27 | AD43: Pupil 28 | AE43: Pupil 29 | AF43: Pupil 30 | AG43: Pupil 31 | AH43: Pupil 32 | AI43: Pupil 33 | AJ43: Pupil 34 | AK43: Pupil 35
A44: Overall | B44: % | C44: ='End of Summer 2'!C2 -> 0 | D44: ='End of Summer 2'!D2 -> 0 | E44: ='End of Summer 2'!E2 -> 0 | F44: ='End of Summer 2'!F2 -> 0 | G44: ='End of Summer 2'!G2 -> 0 | H44: ='End of Summer 2'!H2 -> 0 | I44: ='End of Summer 2'!I2 -> 0 | J44: ='End of Summer 2'!J2 -> 0 | ... AK44: ='End of Summer 2'!AK2 -> 0
A45: Recognition | B45: % | C45: ='End of Summer 2'!C3 -> 0 | D45: ='End of Summer 2'!D3 -> 0 | E45: ='End of Summer 2'!E3 -> 0 | F45: ='End of Summer 2'!F3 -> 0 | G45: ='End of Summer 2'!G3 -> 0 | H45: ='End of Summer 2'!H3 -> 0 | I45: ='End of Summer 2'!I3 -> 0 | J45: ='End of Summer 2'!J3 -> 0 | ... AK45: ='End of Summer 2'!AK3 -> 0
A46: Blending | B46: % | C46: ='End of Summer 2'!C4 -> 0 | D46: ='End of Summer 2'!D4 -> 0 | E46: ='End of Summer 2'!E4 -> 0 | F46: ='End of Summer 2'!F4 -> 0 | G46: ='End of Summer 2'!G4 -> 0 | H46: ='End of Summer 2'!H4 -> 0 | I46: ='End of Summer 2'!I4 -> 0 | J46: ='End of Summer 2'!J4 -> 0 | ... AK46: ='End of Summer 2'!AK4 -> 0
...

Sheet Baseline Sept
B1: NAME | C1: Pupil 1 | D1: Pupil 2 | E1: Pupil 3 | F1: Pupil 4 | G1: Pupil 5 | H1: Pupil 6 | I1: Pupil 7 | J1: Pupil 8 | K1: Pupil 9 | L1: Pupil 10 | M1: Pupil 11 | N1: Pupil 12 | O1: Pupil 13 | P1: Pupil 14 | Q1: Pupil 15 | R1: Pupil 16 | S1: Pupil 17 | T1: Pupil 18 | U1: Pupil 19 | V1: Pupil 20 | W1: Pupil 21 | X1: Pupil 22 | Y1: Pupil 23 | Z1: Pupil 24 | AA1: Pupil 25 | AB1: Pupil 26 | AC1: Pupil 27 | AD1: Pupil 28 | AE1: Pupil 29 | AF1: Pupil 30 | AG1: Pupil 31 | AH1: Pupil 32 | AI1: Pupil 33 | AJ1: Pupil 34 | AK1: Pupil 35
A2: Overall | B2: % | C2: =(COUNTA(C8:C67)/60)*100 -> 0 | D2: =(COUNTA(D8:D67)/60)*100 -> 0 | E2: =(COUNTA(E8:E67)/60)*100 -> 0 | F2: =(COUNTA(F8:F67)/60)*100 -> 0 | G2: =(COUNTA(G8:G67)/60)*100 -> 0 | H2: =(COUNTA(H8:H67)/60)*100 -> 0 | I2: =(COUNTA(I8:I67)/60)*100 -> 0 | J2: =(COUNTA(J8:J67)/60)*100 -> 0 | ... AK2: =(COUNTA(AK8:AK67)/60)*100 -> 0
A3: Recognition | B3: % | C3: =(COUNTA(C8:C33)/26)*100 -> 0 | D3: =(COUNTA(D8:D33)/26)*100 -> 0 | E3: =(COUNTA(E8:E33)/26)*100 -> 0 | F3: =(COUNTA(F8:F33)/26)*100 -> 0 | G3: =(COUNTA(G8:G33)/26)*100 -> 0 | H3: =(COUNTA(H8:H33)/26)*100 -> 0 | I3: =(COUNTA(I8:I33)/26)*100 -> 0 | J3: =(COUNTA(J8:J33)/26)*100 -> 0 | ... AK3: =(COUNTA(AK8:AK33)/26)*100 -> 0
A4: Blending | B4: % | C4: =(COUNTA(C34:C43)/10)*100 -> 0 | D4: =(COUNTA(D34:D43)/10)*100 -> 0 | E4: =(COUNTA(E34:E43)/10)*100 -> 0 | F4: =(COUNTA(F34:F43)/10)*100 -> 0 | G4: =(COUNTA(G34:G43)/10)*100 -> 0 | H4: =(COUNTA(H34:H43)/10)*100 -> 0 | I4: =(COUNTA(I34:I43)/10)*100 -> 0 | J4: =(COUNTA(J34:J43)/10)*100 -> 0 | ... AK4: =(COUNTA(AK34:AK43)/10)*100 -> 0
A5: Tricky words | B5: % | C5: =(COUNTA(C44:C57)/14)*100 -> 0 | D5: =(COUNTA(D44:D57)/14)*100 -> 0 | E5: =(COUNTA(E44:E57)/14)*100 -> 0 | F5: =(COUNTA(F44:F57)/14)*100 -> 0 | G5: =(COUNTA(G44:G57)/14)*100 -> 0 | H5: =(COUNTA(H44:H57)/14)*100 -> 0 | I5: =(COUNTA(I44:I57)/14)*100 -> 0 | J5: =(COUNTA(J44:J57)/14)*100 -> 0 | ... AK5: =(COUNTA(AK44:AK57)/14)*100 -> 0
A6: Segmenting | B6: % | C6: =(COUNTA(C58:C67)/10)*100 -> 0 | D6: =(COUNTA(D58:D67)/10)*100 -> 0 | E6: =(COUNTA(E58:E67)/10)*100 -> 0 | F6: =(COUNTA(F58:F67)/10)*100 -> 0 | G6: =(COUNTA(G58:G67)/10)*100 -> 0 | H6: =(COUNTA(H58:H67)/10)*100 -> 0 | I6: =(COUNTA(I58:I67)/10)*100 -> 0 | J6: =(COUNTA(J58:J67)/10)*100 -> 0 | ... AK6: =(COUNTA(AK58:AK67)/10)*100 -> 0
B8: j
B9: v
B10: w
B11: x
B12: y
B13: z
B14: zz
B15: qu
B16: ch
B17: sh
B18: th
B19: ng
... B33: er
A34: Blending | B34: g-l-a-ng
B35: p-l-i-ck
B36: v-u-s-t
B37: p-l-oa-ch
B38: n-ee-s-t
B39: qu-or-s-t
B40: s-t-r-oi-n-k
B41: c-l-igh-t-s
B42: th-r-u-n-ch
B43: s-p-l-ai-sh
A44: Tricky words | B44: said
B45: have
B46: like
B47: so
B48: do
B49: some
B50: come
B51: were
B52: there
B53: little
B54: one
...

Sheet End of Autumn 1
B1: NAME | C1: Pupil 1 | D1: Pupil 2 | E1: Pupil 3 | F1: Pupil 4 | G1: Pupil 5 | H1: Pupil 6 | I1: Pupil 7 | J1: Pupil 8 | K1: Pupil 9 | L1: Pupil 10 | M1: Pupil 11 | N1: Pupil 12 | O1: Pupil 13 | P1: Pupil 14 | Q1: Pupil 15 | R1: Pupil 16 | S1: Pupil 17 | T1: Pupil 18 | U1: Pupil 19 | V1: Pupil 20 | W1: Pupil 21 | X1: Pupil 22 | Y1: Pupil 23 | Z1: Pupil 24 | AA1: Pupil 25 | AB1: Pupil 26 | AC1: Pupil 27 | AD1: Pupil 28 | AE1: Pupil 29 | AF1: Pupil 30 | AG1: Pupil 31 | AH1: Pupil 32 | AI1: Pupil 33 | AJ1: Pupil 34 | AK1: Pupil 35
A2: Overall | B2: % | C2: =(COUNTA(C8:C52)/45)*100 -> 86.666667 | D2: =(COUNTA(D8:D52)/45)*100 -> 20 | E2: =(COUNTA(E8:E52)/45)*100 -> 17.777778 | F2: =(COUNTA(F8:F52)/45)*100 -> 2.2222222 | G2: =(COUNTA(G8:G52)/45)*100 -> 2.2222222 | H2: =(COUNTA(H8:H52)/45)*100 -> 2.2222222 | I2: =(COUNTA(I8:I52)/45)*100 -> 6.6666667 | J2: =(COUNTA(J8:J52)/45)*100 -> 2.2222222 | ... AK2: =(COUNTA(AK8:AK52)/45)*100 -> 0
A3: Recognition | B3: % | C3: =(COUNTA(C8:C30)/23)*100 -> 95.652174 | D3: =(COUNTA(D8:D30)/23)*100 -> 17.391304 | E3: =(COUNTA(E8:E30)/23)*100 -> 4.3478261 | F3: =(COUNTA(F8:F30)/23)*100 -> 4.3478261 | G3: =(COUNTA(G8:G30)/23)*100 -> 4.3478261 | H3: =(COUNTA(H8:H30)/23)*100 -> 4.3478261 | I3: =(COUNTA(I8:I30)/23)*100 -> 13.043478 | J3: =(COUNTA(J8:J30)/23)*100 -> 4.3478261 | ... AK3: =(COUNTA(AK8:AK30)/23)*100 -> 0
A4: Blending | B4: % | C4: =(COUNTA(C31:C38)/8)*100 -> 100 | D4: =(COUNTA(D31:D38)/8)*100 -> 12.5 | E4: =(COUNTA(E31:E38)/8)*100 -> 12.5 | F4: =(COUNTA(F31:F38)/8)*100 -> 0 | G4: =(COUNTA(G31:G38)/8)*100 -> 0 | H4: =(COUNTA(H31:H38)/8)*100 -> 0 | I4: =(COUNTA(I31:I38)/8)*100 -> 0 | J4: =(COUNTA(J31:J38)/8)*100 -> 0 | ... AK4: =(COUNTA(AK31:AK38)/8)*100 -> 0
A5: Tricky words | B5: % | C5: =(COUNTA(C39:C44)/6)*100 -> 100 | D5: =(COUNTA(D39:D44)/6)*100 -> 33.333333 | E5: =(COUNTA(E39:E44)/6)*100 -> 50 | F5: =(COUNTA(F39:F44)/6)*100 -> 0 | G5: =(COUNTA(G39:G44)/6)*100 -> 0 | H5: =(COUNTA(H39:H44)/6)*100 -> 0 | I5: =(COUNTA(I39:I44)/6)*100 -> 0 | J5: =(COUNTA(J39:J44)/6)*100 -> 0 | ... AK5: =(COUNTA(AK39:AK44)/6)*100 -> 0
A6: Segmenting | B6: % | C6: =(COUNTA(C45:C52)/8)*100 -> 37.5 | D6: =(COUNTA(D45:D52)/8)*100 -> 25 | E6: =(COUNTA(E45:E52)/8)*100 -> 37.5 | F6: =(COUNTA(F45:F52)/8)*100 -> 0 | G6: =(COUNTA(G45:G52)/8)*100 -> 0 | H6: =(COUNTA(H45:H52)/8)*100 -> 0 | I6: =(COUNTA(I45:I52)/8)*100 -> 0 | J6: =(COUNTA(J45:J52)/8)*100 -> 0 | ... AK6: =(COUNTA(AK45:AK52)/8)*100 -> 0
B8: s | D8: x | E8: x | F8: x | H8: x | I8: x
B9: a | C9: x | D9: x | G9: x | I9: x
B10: t | C10: x | D10: x | I10: x | J10: x | K10: x | L10: x
B11: p | C11: x | D11: x | L11: x
B12: i | C12: x | L12: x
B13: n | C13: x
B14: m | C14: x
B15: d | C15: x
B16: g | C16: x
B17: o | C17: x
B18: c | C18: x
B19: k | C19: x
B20: ck | C20: x
B21: e | C21: x
B22: u | C22: x
B23: r | C23: x
B24: h | C24: x
... B30: ss | C30: x
A31: Blending | B31: s-a-t | C31: x
B32: c-u-p | C32: x
B33: h-e-n | C33: x
B34: m-i-ss | C34: x | D34: x
B35: b-o-g | C35: x | E35: x
B36: d-o-ll | C36: x
B37: r-a-g | C37: x
B38: s-o-c-k | C38: x
A39: Tricky w | B39: the | C39: x
B40: to | C40: x
B41: I | C41: x | E41: x
B42: no | C42: x | E42: x
B43: go | C43: x | D43: x | E43: x
B44: into | C44: x | D44: x
A45: Segmenting | B45: bat | C45: x
B46: huff | C46: x
...

Sheet End of Autumn_1
B1: NAME | C1: Pupil 1 | D1: Pupil 2 | E1: Pupil 3 | F1: Pupil 4 | G1: Pupil 5 | H1: Pupil 6 | I1: Pupil 7 | J1: Pupil 8 | K1: Pupil 9 | L1: Pupil 10 | M1: Pupil 11 | N1: Pupil 12 | O1: Pupil 13 | P1: Pupil 14 | Q1: Pupil 15 | R1: Pupil 16 | S1: Pupil 17 | T1: Pupil 18 | U1: Pupil 19 | V1: Pupil 20 | W1: Pupil 21 | X1: Pupil 22 | Y1: Pupil 23 | Z1: Pupil 24 | AA1: Pupil 25 | AB1: Pupil 26 | AC1: Pupil 27 | AD1: Pupil 28 | AE1: Pupil 29 | AF1: Pupil 30 | AG1: Pupil 31 | AH1: Pupil 32 | AI1: Pupil 33 | AJ1: Pupil 34 | AK1: Pupil 35
A2: Overall | B2: % | C2: =(COUNTA(C8:C67)/60)*100 -> 0 | D2: =(COUNTA(D8:D67)/60)*100 -> 0 | E2: =(COUNTA(E8:E67)/60)*100 -> 0 | F2: =(COUNTA(F8:F67)/60)*100 -> 0 | G2: =(COUNTA(G8:G67)/60)*100 -> 0 | H2: =(COUNTA(H8:H67)/60)*100 -> 0 | I2: =(COUNTA(I8:I67)/60)*100 -> 0 | J2: =(COUNTA(J8:J67)/60)*100 -> 0 | ... AK2: =(COUNTA(AK8:AK67)/60)*100 -> 0
A3: Recognition | B3: % | C3: =(COUNTA(C8:C33)/26)*100 -> 0 | D3: =(COUNTA(D8:D33)/26)*100 -> 0 | E3: =(COUNTA(E8:E33)/26)*100 -> 0 | F3: =(COUNTA(F8:F33)/26)*100 -> 0 | G3: =(COUNTA(G8:G33)/26)*100 -> 0 | H3: =(COUNTA(H8:H33)/26)*100 -> 0 | I3: =(COUNTA(I8:I33)/26)*100 -> 0 | J3: =(COUNTA(J8:J33)/26)*100 -> 0 | ... AK3: =(COUNTA(AK8:AK33)/26)*100 -> 0
A4: Blending | B4: % | C4: =(COUNTA(C34:C43)/10)*100 -> 0 | D4: =(COUNTA(D34:D43)/10)*100 -> 0 | E4: =(COUNTA(E34:E43)/10)*100 -> 0 | F4: =(COUNTA(F34:F43)/10)*100 -> 0 | G4: =(COUNTA(G34:G43)/10)*100 -> 0 | H4: =(COUNTA(H34:H43)/10)*100 -> 0 | I4: =(COUNTA(I34:I43)/10)*100 -> 0 | J4: =(COUNTA(J34:J43)/10)*100 -> 0 | ... AK4: =(COUNTA(AK34:AK43)/10)*100 -> 0
A5: Tricky words | B5: % | C5: =(COUNTA(C44:C57)/14)*100 -> 0 | D5: =(COUNTA(D44:D57)/14)*100 -> 0 | E5: =(COUNTA(E44:E57)/14)*100 -> 0 | F5: =(COUNTA(F44:F57)/14)*100 -> 0 | G5: =(COUNTA(G44:G57)/14)*100 -> 0 | H5: =(COUNTA(H44:H57)/14)*100 -> 0 | I5: =(COUNTA(I44:I57)/14)*100 -> 0 | J5: =(COUNTA(J44:J57)/14)*100 -> 0 | ... AK5: =(COUNTA(AK44:AK57)/14)*100 -> 0
A6: Segmenting | B6: % | C6: =(COUNTA(C58:C67)/10)*100 -> 0 | D6: =(COUNTA(D58:D67)/10)*100 -> 0 | E6: =(COUNTA(E58:E67)/10)*100 -> 0 | F6: =(COUNTA(F58:F67)/10)*100 -> 0 | G6: =(COUNTA(G58:G67)/10)*100 -> 0 | H6: =(COUNTA(H58:H67)/10)*100 -> 0 | I6: =(COUNTA(I58:I67)/10)*100 -> 0 | J6: =(COUNTA(J58:J67)/10)*100 -> 0 | ... AK6: =(COUNTA(AK58:AK67)/10)*100 -> 0
B8: j
B9: v
B10: w
B11: x
B12: y
B13: z
B14: zz
B15: qu
B16: ch
B17: sh
B18: th
B19: ng
... B33: er
A34: Blending | B34: g-l-a-ng
B35: p-l-i-ck
B36: v-u-s-t
B37: p-l-oa-ch
B38: n-ee-s-t
B39: qu-or-s-t
B40: s-t-r-oi-n-k
B41: c-l-igh-t-s
B42: th-r-u-n-ch
B43: s-p-l-ai-sh
A44: Tricky words | B44: said
B45: have
B46: like
B47: so
B48: do
B49: some
B50: come
B51: were
B52: there
B53: little
B54: one
...

Sheet End of Autumn 2
B1: NAME | C1: Pupil 1 | D1: Pupil 2 | E1: Pupil 3 | F1: Pupil 4 | G1: Pupil 5 | H1: Pupil 6 | I1: Pupil 7 | J1: Pupil 8 | K1: Pupil 9 | L1: Pupil 10 | M1: Pupil 11 | N1: Pupil 12 | O1: Pupil 13 | P1: Pupil 14 | Q1: Pupil 15 | R1: Pupil 16 | S1: Pupil 17 | T1: Pupil 18 | U1: Pupil 19 | V1: Pupil 20 | W1: Pupil 21 | X1: Pupil 22 | Y1: Pupil 23 | Z1: Pupil 24 | AA1: Pupil 25 | AB1: Pupil 26 | AC1: Pupil 27 | AD1: Pupil 28 | AE1: Pupil 29 | AF1: Pupil 30 | AG1: Pupil 31 | AH1: Pupil 32 | AI1: Pupil 33 | AJ1: Pupil 34 | AK1: Pupil 35
A2: Overall | B2: % | C2: =(COUNTA(C8:C67)/60)*100 -> 0 | D2: =(COUNTA(D8:D67)/60)*100 -> 0 | E2: =(COUNTA(E8:E67)/60)*100 -> 0 | F2: =(COUNTA(F8:F67)/60)*100 -> 0 | G2: =(COUNTA(G8:G67)/60)*100 -> 0 | H2: =(COUNTA(H8:H67)/60)*100 -> 0 | I2: =(COUNTA(I8:I67)/60)*100 -> 0 | J2: =(COUNTA(J8:J67)/60)*100 -> 0 | ... AK2: =(COUNTA(AK8:AK67)/60)*100 -> 0
A3: Recognition | B3: % | C3: =(COUNTA(C8:C33)/26)*100 -> 0 | D3: =(COUNTA(D8:D33)/26)*100 -> 0 | E3: =(COUNTA(E8:E33)/26)*100 -> 0 | F3: =(COUNTA(F8:F33)/26)*100 -> 0 | G3: =(COUNTA(G8:G33)/26)*100 -> 0 | H3: =(COUNTA(H8:H33)/26)*100 -> 0 | I3: =(COUNTA(I8:I33)/26)*100 -> 0 | J3: =(COUNTA(J8:J33)/26)*100 -> 0 | ... AK3: =(COUNTA(AK8:AK33)/26)*100 -> 0
A4: Blending | B4: % | C4: =(COUNTA(C34:C43)/10)*100 -> 0 | D4: =(COUNTA(D34:D43)/10)*100 -> 0 | E4: =(COUNTA(E34:E43)/10)*100 -> 0 | F4: =(COUNTA(F34:F43)/10)*100 -> 0 | G4: =(COUNTA(G34:G43)/10)*100 -> 0 | H4: =(COUNTA(H34:H43)/10)*100 -> 0 | I4: =(COUNTA(I34:I43)/10)*100 -> 0 | J4: =(COUNTA(J34:J43)/10)*100 -> 0 | ... AK4: =(COUNTA(AK34:AK43)/10)*100 -> 0
A5: Tricky words | B5: % | C5: =(COUNTA(C44:C57)/14)*100 -> 0 | D5: =(COUNTA(D44:D57)/14)*100 -> 0 | E5: =(COUNTA(E44:E57)/14)*100 -> 0 | F5: =(COUNTA(F44:F57)/14)*100 -> 0 | G5: =(COUNTA(G44:G57)/14)*100 -> 0 | H5: =(COUNTA(H44:H57)/14)*100 -> 0 | I5: =(COUNTA(I44:I57)/14)*100 -> 0 | J5: =(COUNTA(J44:J57)/14)*100 -> 0 | ... AK5: =(COUNTA(AK44:AK57)/14)*100 -> 0
A6: Segmenting | B6: % | C6: =(COUNTA(C58:C67)/10)*100 -> 0 | D6: =(COUNTA(D58:D67)/10)*100 -> 0 | E6: =(COUNTA(E58:E67)/10)*100 -> 0 | F6: =(COUNTA(F58:F67)/10)*100 -> 0 | G6: =(COUNTA(G58:G67)/10)*100 -> 0 | H6: =(COUNTA(H58:H67)/10)*100 -> 0 | I6: =(COUNTA(I58:I67)/10)*100 -> 0 | J6: =(COUNTA(J58:J67)/10)*100 -> 0 | ... AK6: =(COUNTA(AK58:AK67)/10)*100 -> 0
B8: j
B9: v
B10: w
B11: x
B12: y
B13: z
B14: zz
B15: qu
B16: ch
B17: sh
B18: th
B19: ng
... B33: er
A34: Blending | B34: g-l-a-ng
B35: p-l-i-ck
B36: v-u-s-t
B37: p-l-oa-ch
B38: n-ee-s-t
B39: qu-or-s-t
B40: s-t-r-oi-n-k
B41: c-l-igh-t-s
B42: th-r-u-n-ch
B43: s-p-l-ai-sh
A44: Tricky words | B44: said
B45: have
B46: like
B47: so
B48: do
B49: some
B50: come
B51: were
B52: there
B53: little
B54: one
...

Sheet End of Spring 1
B1: NAME | C1: Pupil 1 | D1: Pupil 2 | E1: Pupil 3 | F1: Pupil 4 | G1: Pupil 5 | H1: Pupil 6 | I1: Pupil 7 | J1: Pupil 8 | K1: Pupil 9 | L1: Pupil 10 | M1: Pupil 11 | N1: Pupil 12 | O1: Pupil 13 | P1: Pupil 14 | Q1: Pupil 15 | R1: Pupil 16 | S1: Pupil 17 | T1: Pupil 18 | U1: Pupil 19 | V1: Pupil 20 | W1: Pupil 21 | X1: Pupil 22 | Y1: Pupil 23 | Z1: Pupil 24 | AA1: Pupil 25 | AB1: Pupil 26 | AC1: Pupil 27 | AD1: Pupil 28 | AE1: Pupil 29 | AF1: Pupil 30 | AG1: Pupil 31 | AH1: Pupil 32 | AI1: Pupil 33 | AJ1: Pupil 34 | AK1: Pupil 35
A2: Overall | B2: % | C2: =(COUNTA(C8:C67)/60)*100 -> 0 | D2: =(COUNTA(D8:D67)/60)*100 -> 0 | E2: =(COUNTA(E8:E67)/60)*100 -> 0 | F2: =(COUNTA(F8:F67)/60)*100 -> 0 | G2: =(COUNTA(G8:G67)/60)*100 -> 0 | H2: =(COUNTA(H8:H67)/60)*100 -> 0 | I2: =(COUNTA(I8:I67)/60)*100 -> 0 | J2: =(COUNTA(J8:J67)/60)*100 -> 0 | ... AK2: =(COUNTA(AK8:AK67)/60)*100 -> 0
A3: Recognition | B3: % | C3: =(COUNTA(C8:C33)/26)*100 -> 0 | D3: =(COUNTA(D8:D33)/26)*100 -> 0 | E3: =(COUNTA(E8:E33)/26)*100 -> 0 | F3: =(COUNTA(F8:F33)/26)*100 -> 0 | G3: =(COUNTA(G8:G33)/26)*100 -> 0 | H3: =(COUNTA(H8:H33)/26)*100 -> 0 | I3: =(COUNTA(I8:I33)/26)*100 -> 0 | J3: =(COUNTA(J8:J33)/26)*100 -> 0 | ... AK3: =(COUNTA(AK8:AK33)/26)*100 -> 0
A4: Blending | B4: % | C4: =(COUNTA(C34:C43)/10)*100 -> 0 | D4: =(COUNTA(D34:D43)/10)*100 -> 0 | E4: =(COUNTA(E34:E43)/10)*100 -> 0 | F4: =(COUNTA(F34:F43)/10)*100 -> 0 | G4: =(COUNTA(G34:G43)/10)*100 -> 0 | H4: =(COUNTA(H34:H43)/10)*100 -> 0 | I4: =(COUNTA(I34:I43)/10)*100 -> 0 | J4: =(COUNTA(J34:J43)/10)*100 -> 0 | ... AK4: =(COUNTA(AK34:AK43)/10)*100 -> 0
A5: Tricky words | B5: % | C5: =(COUNTA(C44:C57)/14)*100 -> 0 | D5: =(COUNTA(D44:D57)/14)*100 -> 0 | E5: =(COUNTA(E44:E57)/14)*100 -> 0 | F5: =(COUNTA(F44:F57)/14)*100 -> 0 | G5: =(COUNTA(G44:G57)/14)*100 -> 0 | H5: =(COUNTA(H44:H57)/14)*100 -> 0 | I5: =(COUNTA(I44:I57)/14)*100 -> 0 | J5: =(COUNTA(J44:J57)/14)*100 -> 0 | ... AK5: =(COUNTA(AK44:AK57)/14)*100 -> 0
A6: Segmenting | B6: % | C6: =(COUNTA(C58:C67)/10)*100 -> 0 | D6: =(COUNTA(D58:D67)/10)*100 -> 0 | E6: =(COUNTA(E58:E67)/10)*100 -> 0 | F6: =(COUNTA(F58:F67)/10)*100 -> 0 | G6: =(COUNTA(G58:G67)/10)*100 -> 0 | H6: =(COUNTA(H58:H67)/10)*100 -> 0 | I6: =(COUNTA(I58:I67)/10)*100 -> 0 | J6: =(COUNTA(J58:J67)/10)*100 -> 0 | ... AK6: =(COUNTA(AK58:AK67)/10)*100 -> 0
B8: j
B9: v
B10: w
B11: x
B12: y
B13: z
B14: zz
B15: qu
B16: ch
B17: sh
B18: th
B19: ng
... B33: er
A34: Blending | B34: g-l-a-ng
B35: p-l-i-ck
B36: v-u-s-t
B37: p-l-oa-ch
B38: n-ee-s-t
B39: qu-or-s-t
B40: s-t-r-oi-n-k
B41: c-l-igh-t-s
B42: th-r-u-n-ch
B43: s-p-l-ai-sh
A44: Tricky words | B44: said
B45: have
B46: like
B47: so
B48: do
B49: some
B50: come
B51: were
B52: there
B53: little
B54: one
...

Sheet End of Spring 2
B1: NAME | C1: Pupil 1 | D1: Pupil 2 | E1: Pupil 3 | F1: Pupil 4 | G1: Pupil 5 | H1: Pupil 6 | I1: Pupil 7 | J1: Pupil 8 | K1: Pupil 9 | L1: Pupil 10 | M1: Pupil 11 | N1: Pupil 12 | O1: Pupil 13 | P1: Pupil 14 | Q1: Pupil 15 | R1: Pupil 16 | S1: Pupil 17 | T1: Pupil 18 | U1: Pupil 19 | V1: Pupil 20 | W1: Pupil 21 | X1: Pupil 22 | Y1: Pupil 23 | Z1: Pupil 24 | AA1: Pupil 25 | AB1: Pupil 26 | AC1: Pupil 27 | AD1: Pupil 28 | AE1: Pupil 29 | AF1: Pupil 30 | AG1: Pupil 31 | AH1: Pupil 32 | AI1: Pupil 33 | AJ1: Pupil 34 | AK1: Pupil 35
A2: Overall | B2: % | C2: =(COUNTA(C8:C67)/60)*100 -> 0 | D2: =(COUNTA(D8:D67)/60)*100 -> 0 | E2: =(COUNTA(E8:E67)/60)*100 -> 0 | F2: =(COUNTA(F8:F67)/60)*100 -> 0 | G2: =(COUNTA(G8:G67)/60)*100 -> 0 | H2: =(COUNTA(H8:H67)/60)*100 -> 0 | I2: =(COUNTA(I8:I67)/60)*100 -> 0 | J2: =(COUNTA(J8:J67)/60)*100 -> 0 | ... AK2: =(COUNTA(AK8:AK67)/60)*100 -> 0
A3: Recognition | B3: % | C3: =(COUNTA(C8:C33)/26)*100 -> 0 | D3: =(COUNTA(D8:D33)/26)*100 -> 0 | E3: =(COUNTA(E8:E33)/26)*100 -> 0 | F3: =(COUNTA(F8:F33)/26)*100 -> 0 | G3: =(COUNTA(G8:G33)/26)*100 -> 0 | H3: =(COUNTA(H8:H33)/26)*100 -> 0 | I3: =(COUNTA(I8:I33)/26)*100 -> 0 | J3: =(COUNTA(J8:J33)/26)*100 -> 0 | ... AK3: =(COUNTA(AK8:AK33)/26)*100 -> 0
A4: Blending | B4: % | C4: =(COUNTA(C34:C43)/10)*100 -> 0 | D4: =(COUNTA(D34:D43)/10)*100 -> 0 | E4: =(COUNTA(E34:E43)/10)*100 -> 0 | F4: =(COUNTA(F34:F43)/10)*100 -> 0 | G4: =(COUNTA(G34:G43)/10)*100 -> 0 | H4: =(COUNTA(H34:H43)/10)*100 -> 0 | I4: =(COUNTA(I34:I43)/10)*100 -> 0 | J4: =(COUNTA(J34:J43)/10)*100 -> 0 | ... AK4: =(COUNTA(AK34:AK43)/10)*100 -> 0
A5: Tricky words | B5: % | C5: =(COUNTA(C44:C57)/14)*100 -> 0 | D5: =(COUNTA(D44:D57)/14)*100 -> 0 | E5: =(COUNTA(E44:E57)/14)*100 -> 0 | F5: =(COUNTA(F44:F57)/14)*100 -> 0 | G5: =(COUNTA(G44:G57)/14)*100 -> 0 | H5: =(COUNTA(H44:H57)/14)*100 -> 0 | I5: =(COUNTA(I44:I57)/14)*100 -> 0 | J5: =(COUNTA(J44:J57)/14)*100 -> 0 | ... AK5: =(COUNTA(AK44:AK57)/14)*100 -> 0
A6: Segmenting | B6: % | C6: =(COUNTA(C58:C67)/10)*100 -> 0 | D6: =(COUNTA(D58:D67)/10)*100 -> 0 | E6: =(COUNTA(E58:E67)/10)*100 -> 0 | F6: =(COUNTA(F58:F67)/10)*100 -> 0 | G6: =(COUNTA(G58:G67)/10)*100 -> 0 | H6: =(COUNTA(H58:H67)/10)*100 -> 0 | I6: =(COUNTA(I58:I67)/10)*100 -> 0 | J6: =(COUNTA(J58:J67)/10)*100 -> 0 | ... AK6: =(COUNTA(AK58:AK67)/10)*100 -> 0
B8: j
B9: v
B10: w
B11: x
B12: y
B13: z
B14: zz
B15: qu
B16: ch
B17: sh
B18: th
B19: ng
... B33: er
A34: Blending | B34: g-l-a-ng
B35: p-l-i-ck
B36: v-u-s-t
B37: p-l-oa-ch
B38: n-ee-s-t
B39: qu-or-s-t
B40: s-t-r-oi-n-k
B41: c-l-igh-t-s
B42: th-r-u-n-ch
B43: s-p-l-ai-sh
A44: Tricky words | B44: said
B45: have
B46: like
B47: so
B48: do
B49: some
B50: come
B51: were
B52: there
B53: little
B54: one
...

Sheet End of Summer 1
B1: NAME | C1: Pupil 1 | D1: Pupil 2 | E1: Pupil 3 | F1: Pupil 4 | G1: Pupil 5 | H1: Pupil 6 | I1: Pupil 7 | J1: Pupil 8 | K1: Pupil 9 | L1: Pupil 10 | M1: Pupil 11 | N1: Pupil 12 | O1: Pupil 13 | P1: Pupil 14 | Q1: Pupil 15 | R1: Pupil 16 | S1: Pupil 17 | T1: Pupil 18 | U1: Pupil 19 | V1: Pupil 20 | W1: Pupil 21 | X1: Pupil 22 | Y1: Pupil 23 | Z1: Pupil 24 | AA1: Pupil 25 | AB1: Pupil 26 | AC1: Pupil 27 | AD1: Pupil 28 | AE1: Pupil 29 | AF1: Pupil 30 | AG1: Pupil 31 | AH1: Pupil 32 | AI1: Pupil 33 | AJ1: Pupil 34 | AK1: Pupil 35
A2: Overall | B2: % | C2: =(COUNTA(C8:C67)/60)*100 -> 0 | D2: =(COUNTA(D8:D67)/60)*100 -> 0 | E2: =(COUNTA(E8:E67)/60)*100 -> 0 | F2: =(COUNTA(F8:F67)/60)*100 -> 0 | G2: =(COUNTA(G8:G67)/60)*100 -> 0 | H2: =(COUNTA(H8:H67)/60)*100 -> 0 | I2: =(COUNTA(I8:I67)/60)*100 -> 0 | J2: =(COUNTA(J8:J67)/60)*100 -> 0 | ... AK2: =(COUNTA(AK8:AK67)/60)*100 -> 0
A3: Recognition | B3: % | C3: =(COUNTA(C8:C33)/26)*100 -> 0 | D3: =(COUNTA(D8:D33)/26)*100 -> 0 | E3: =(COUNTA(E8:E33)/26)*100 -> 0 | F3: =(COUNTA(F8:F33)/26)*100 -> 0 | G3: =(COUNTA(G8:G33)/26)*100 -> 0 | H3: =(COUNTA(H8:H33)/26)*100 -> 0 | I3: =(COUNTA(I8:I33)/26)*100 -> 0 | J3: =(COUNTA(J8:J33)/26)*100 -> 0 | ... AK3: =(COUNTA(AK8:AK33)/26)*100 -> 0
A4: Blending | B4: % | C4: =(COUNTA(C34:C43)/10)*100 -> 0 | D4: =(COUNTA(D34:D43)/10)*100 -> 0 | E4: =(COUNTA(E34:E43)/10)*100 -> 0 | F4: =(COUNTA(F34:F43)/10)*100 -> 0 | G4: =(COUNTA(G34:G43)/10)*100 -> 0 | H4: =(COUNTA(H34:H43)/10)*100 -> 0 | I4: =(COUNTA(I34:I43)/10)*100 -> 0 | J4: =(COUNTA(J34:J43)/10)*100 -> 0 | ... AK4: =(COUNTA(AK34:AK43)/10)*100 -> 0
A5: Tricky words | B5: % | C5: =(COUNTA(C44:C57)/14)*100 -> 0 | D5: =(COUNTA(D44:D57)/14)*100 -> 0 | E5: =(COUNTA(E44:E57)/14)*100 -> 0 | F5: =(COUNTA(F44:F57)/14)*100 -> 0 | G5: =(COUNTA(G44:G57)/14)*100 -> 0 | H5: =(COUNTA(H44:H57)/14)*100 -> 0 | I5: =(COUNTA(I44:I57)/14)*100 -> 0 | J5: =(COUNTA(J44:J57)/14)*100 -> 0 | ... AK5: =(COUNTA(AK44:AK57)/14)*100 -> 0
A6: Segmenting | B6: % | C6: =(COUNTA(C58:C67)/10)*100 -> 0 | D6: =(COUNTA(D58:D67)/10)*100 -> 0 | E6: =(COUNTA(E58:E67)/10)*100 -> 0 | F6: =(COUNTA(F58:F67)/10)*100 -> 0 | G6: =(COUNTA(G58:G67)/10)*100 -> 0 | H6: =(COUNTA(H58:H67)/10)*100 -> 0 | I6: =(COUNTA(I58:I67)/10)*100 -> 0 | J6: =(COUNTA(J58:J67)/10)*100 -> 0 | ... AK6: =(COUNTA(AK58:AK67)/10)*100 -> 0
B8: j
B9: v
B10: w
B11: x
B12: y
B13: z
B14: zz
B15: qu
B16: ch
B17: sh
B18: th
B19: ng
... B33: er
A34: Blending | B34: g-l-a-ng
B35: p-l-i-ck
B36: v-u-s-t
B37: p-l-oa-ch
B38: n-ee-s-t
B39: qu-or-s-t
B40: s-t-r-oi-n-k
B41: c-l-igh-t-s
B42: th-r-u-n-ch
B43: s-p-l-ai-sh
A44: Tricky words | B44: said
B45: have
B46: like
B47: so
B48: do
B49: some
B50: come
B51: were
B52: there
B53: little
B54: one
...

Sheet End of Summer 2
B1: NAME | C1: Pupil 1 | D1: Pupil 2 | E1: Pupil 3 | F1: Pupil 4 | G1: Pupil 5 | H1: Pupil 6 | I1: Pupil 7 | J1: Pupil 8 | K1: Pupil 9 | L1: Pupil 10 | M1: Pupil 11 | N1: Pupil 12 | O1: Pupil 13 | P1: Pupil 14 | Q1: Pupil 15 | R1: Pupil 16 | S1: Pupil 17 | T1: Pupil 18 | U1: Pupil 19 | V1: Pupil 20 | W1: Pupil 21 | X1: Pupil 22 | Y1: Pupil 23 | Z1: Pupil 24 | AA1: Pupil 25 | AB1: Pupil 26 | AC1: Pupil 27 | AD1: Pupil 28 | AE1: Pupil 29 | AF1: Pupil 30 | AG1: Pupil 31 | AH1: Pupil 32 | AI1: Pupil 33 | AJ1: Pupil 34 | AK1: Pupil 35
A2: Overall | B2: % | C2: =(COUNTA(C8:C67)/60)*100 -> 0 | D2: =(COUNTA(D8:D67)/60)*100 -> 0 | E2: =(COUNTA(E8:E67)/60)*100 -> 0 | F2: =(COUNTA(F8:F67)/60)*100 -> 0 | G2: =(COUNTA(G8:G67)/60)*100 -> 0 | H2: =(COUNTA(H8:H67)/60)*100 -> 0 | I2: =(COUNTA(I8:I67)/60)*100 -> 0 | J2: =(COUNTA(J8:J67)/60)*100 -> 0 | ... AK2: =(COUNTA(AK8:AK67)/60)*100 -> 0
A3: Recognition | B3: % | C3: =(COUNTA(C8:C33)/26)*100 -> 0 | D3: =(COUNTA(D8:D33)/26)*100 -> 0 | E3: =(COUNTA(E8:E33)/26)*100 -> 0 | F3: =(COUNTA(F8:F33)/26)*100 -> 0 | G3: =(COUNTA(G8:G33)/26)*100 -> 0 | H3: =(COUNTA(H8:H33)/26)*100 -> 0 | I3: =(COUNTA(I8:I33)/26)*100 -> 0 | J3: =(COUNTA(J8:J33)/26)*100 -> 0 | ... AK3: =(COUNTA(AK8:AK33)/26)*100 -> 0
A4: Blending | B4: % | C4: =(COUNTA(C34:C43)/10)*100 -> 0 | D4: =(COUNTA(D34:D43)/10)*100 -> 0 | E4: =(COUNTA(E34:E43)/10)*100 -> 0 | F4: =(COUNTA(F34:F43)/10)*100 -> 0 | G4: =(COUNTA(G34:G43)/10)*100 -> 0 | H4: =(COUNTA(H34:H43)/10)*100 -> 0 | I4: =(COUNTA(I34:I43)/10)*100 -> 0 | J4: =(COUNTA(J34:J43)/10)*100 -> 0 | ... AK4: =(COUNTA(AK34:AK43)/10)*100 -> 0
A5: Tricky words | B5: % | C5: =(COUNTA(C44:C57)/14)*100 -> 0 | D5: =(COUNTA(D44:D57)/14)*100 -> 0 | E5: =(COUNTA(E44:E57)/14)*100 -> 0 | F5: =(COUNTA(F44:F57)/14)*100 -> 0 | G5: =(COUNTA(G44:G57)/14)*100 -> 0 | H5: =(COUNTA(H44:H57)/14)*100 -> 0 | I5: =(COUNTA(I44:I57)/14)*100 -> 0 | J5: =(COUNTA(J44:J57)/14)*100 -> 0 | ... AK5: =(COUNTA(AK44:AK57)/14)*100 -> 0
A6: Segmenting | B6: % | C6: =(COUNTA(C58:C67)/10)*100 -> 0 | D6: =(COUNTA(D58:D67)/10)*100 -> 0 | E6: =(COUNTA(E58:E67)/10)*100 -> 0 | F6: =(COUNTA(F58:F67)/10)*100 -> 0 | G6: =(COUNTA(G58:G67)/10)*100 -> 0 | H6: =(COUNTA(H58:H67)/10)*100 -> 0 | I6: =(COUNTA(I58:I67)/10)*100 -> 0 | J6: =(COUNTA(J58:J67)/10)*100 -> 0 | ... AK6: =(COUNTA(AK58:AK67)/10)*100 -> 0
B8: j
B9: v
B10: w
B11: x
B12: y
B13: z
B14: zz
B15: qu
B16: ch
B17: sh
B18: th
B19: ng
... B33: er
A34: Blending | B34: g-l-a-ng
B35: p-l-i-ck
B36: v-u-s-t
B37: p-l-oa-ch
B38: n-ee-s-t
B39: qu-or-s-t
B40: s-t-r-oi-n-k
B41: c-l-igh-t-s
B42: th-r-u-n-ch
B43: s-p-l-ai-sh
A44: Tricky words | B44: said
B45: have
B46: like
B47: so
B48: do
B49: some
B50: come
B51: were
B52: there
B53: little
B54: one
...
